BEGIN:VCALENDAR
VERSION:2.0
PRODID:-//New Dorp Moravian Church - ECPv6.15.20//NONSGML v1.0//EN
CALSCALE:GREGORIAN
METHOD:PUBLISH
X-WR-CALNAME:New Dorp Moravian Church
X-ORIGINAL-URL:https://www.newdorpmoravian.org
X-WR-CALDESC:Events for New Dorp Moravian Church
REFRESH-INTERVAL;VALUE=DURATION:PT1H
X-Robots-Tag:noindex
X-PUBLISHED-TTL:PT1H
BEGIN:VTIMEZONE
TZID:America/New_York
BEGIN:DAYLIGHT
TZOFFSETFROM:-0500
TZOFFSETTO:-0400
TZNAME:EDT
DTSTART:20250309T070000
END:DAYLIGHT
BEGIN:STANDARD
TZOFFSETFROM:-0400
TZOFFSETTO:-0500
TZNAME:EST
DTSTART:20251102T060000
END:STANDARD
BEGIN:DAYLIGHT
TZOFFSETFROM:-0500
TZOFFSETTO:-0400
TZNAME:EDT
DTSTART:20260308T070000
END:DAYLIGHT
BEGIN:STANDARD
TZOFFSETFROM:-0400
TZOFFSETTO:-0500
TZNAME:EST
DTSTART:20261101T060000
END:STANDARD
BEGIN:DAYLIGHT
TZOFFSETFROM:-0500
TZOFFSETTO:-0400
TZNAME:EDT
DTSTART:20270314T070000
END:DAYLIGHT
BEGIN:STANDARD
TZOFFSETFROM:-0400
TZOFFSETTO:-0500
TZNAME:EST
DTSTART:20271107T060000
END:STANDARD
END:VTIMEZONE
BEGIN:VEVENT
DTSTART;TZID=America/New_York:20260402T190000
DTEND;TZID=America/New_York:20260402T200000
DTSTAMP:20260419T203859
CREATED:20260305T190605Z
LAST-MODIFIED:20260305T190937Z
UID:7791-1775156400-1775160000@www.newdorpmoravian.org
SUMMARY:Maundy Thursday Service
DESCRIPTION:Holy Week continues with scripture readings and a Maundy Thursday Service with Holy Communion hosted at New Dorp Moravian Church. All are welcome. \nTime: 7:00pm\nLocation: New Dorp Moravian Church
URL:https://www.newdorpmoravian.org/event/maundy-thursday-service/
LOCATION:New Dorp Moravian Church\, 2205 Richmond Rd\, Staten Island\, NY\, 10306\, United States
CATEGORIES:Holy Week,Special
ATTACH;FMTTYPE=image/webp:https://www.newdorpmoravian.org/wp-content/uploads/2026/03/ndmc-maundy-thursday-wp.webp
END:VEVENT
END:VCALENDAR